BEGIN:VCALENDAR
VERSION:2.0
PRODID:-//hacksw/handcal//NONSGML v1.0//EN
BEGIN:VEVENT
SUMMARY:Journee portes ouvertes samedi 13 juin 2026
UID:91f12645-cf4c-4cdc-8ac0-f6fcc595adea
DTSTART:20250614T070000Z
DTEND:20250614T101500Z
LOCATION:Dojo Clarisse Agbegnenou  32 rue Frederic Chopin  38320 EYBENS
CATEGORIES:Sportif
STATUS:
DESCRIPTION:<p>Le 13 juin a partir de 9h se tiendra la journee porte
 ouverte du judo club d'Eybens.</p>
 
 <p>Vous pourrez venir essayer le
 judo en famille et vous inscrire ou re-inscrire pour la saison a
 venir.</p>
 
 <p>Les jeunes du club seront egalement presents pour vous
 proposer une vente de crepes et un service de nettoyage de
 voitures.</p>
 
 <p> </p>
 
 <p>Nous avons egalement besoin de toute
 l'aide disponible pour le bon deroulement de ce moment convivial. Si
 vous souhaitez participer, vous pouvez donner vos
 disponibilites Sportivement,</p>
 
 <p>La tribu en
 mouvement</p>
 
 <p> </p>
URL;VALUE=URI:https://www.judo-eybens.fr/evenements/2025/06/14/journee-portes-ouvertes-samedi-13-juin-2026-2441521
END:VEVENT
END:VCALENDAR
