BEGIN:VCALENDAR
VERSION:2.0
PRODID:-//hacksw/handcal//NONSGML v1.0//EN
BEGIN:VEVENT
SUMMARY:Kenzan 2026
UID:63e59d74-e991-457a-b2b2-2bb6f72391f3
DTSTART:20260322T070000Z
DTEND:20260322T170000Z
LOCATION:Localisation   
CATEGORIES:Sportif
STATUS:
URL;VALUE=URI:https://www.judo-eybens.fr/evenements/2026/03/22/kenzan-2026-2439323
END:VEVENT
END:VCALENDAR
