BEGIN:VCALENDAR
VERSION:2.0
PRODID:-//hacksw/handcal//NONSGML v1.0//EN
BEGIN:VEVENT
SUMMARY:Assemblee Generale / Remise des diplomes et grades
UID:692bd586-1be9-40e3-842a-46f458494bbe
DTSTART:20260613T140000Z
DTEND:20260613T160000Z
LOCATION:Dojo Clarisse Agbegnenou  32 rue Frederic Chopin  38320 EYBENS
CATEGORIES:Sportif
STATUS:
DESCRIPTION:<p> </p>
 
 <p><span style="font-size:11pt;"><span
 style="font-family:Arial, sans-serif;"><span
 style="color:#000000;"><span style="font-weight:400;"><span
 style="font-style:normal;"><span
 style="text-decoration:none;">Eybens, le 15 mai
 2026</span></span></span></span></span></span></p>
 
 <p> </p>
 
 <p><span
 style="font-size:12pt;"><span style="font-family:Arial,
 sans-serif;"><span style="color:#ff3333;"><span
 style="font-weight:700;"><span style="font-style:normal;"><span
 style="text-decoration:none;">Objet : Convocation Assemblee Generale
 2025</span></span></span></span></span></span></p>
 
 <p><span
 style="font-size:8pt;"><span style="font-family:Arial,
 sans-serif;"><span style="color:#ff3333;"><span
 style="font-weight:400;"><span style="font-style:italic;"><span
 style="text-decoration:none;">(envoi par e-mail conformement decision
 AG
 2016)</span></span></span></span></span></span></p>
 
 <p> </p>
 
 <p><span
 style="font-size:11pt;"><span style="font-family:Arial,
 sans-serif;"><span style="color:#000000;"><span
 style="font-weight:400;"><span style="font-style:normal;"><span
 style="text-decoration:none;">Chere adherente, Cher
 adherent,</span></span></span></span></span></span></p>
 
 <p> </p>
 
 <p
 style="text-align:center;"><span style="font-size:12pt;"><span
 style="font-family:Arial, sans-serif;"><span
 style="color:#00000a;"><span style="font-weight:400;"><span
 style="font-style:normal;"><span style="text-decoration:none;">Nous
 vous invitons a participer a notre Assemblee Generale Annuelle le
 :</span></span></span></span></span></span></p>
 
 <p
 style="text-align:center;"><span style="font-size:12pt;"><span
 style="font-family:Arial, sans-serif;"><span
 style="color:#00000a;"><span style="font-weight:700;"><span
 style="font-style:normal;"><span style="text-decoration:none;">Samedi
 13 juin 2026</span></span></span></span></span></span><span
 style="font-size:12pt;"><span style="font-family:Arial,
 sans-serif;"><span style="color:#00000a;"><span
 style="font-weight:700;"><span style="font-style:normal;"><span
 style="text-decoration:none;"> a
 16h30</span></span></span></span></span></span><span
 style="font-size:12pt;"><span style="font-family:Arial,
 sans-serif;"><span style="color:#00000a;"><span
 style="font-weight:400;"><span style="font-style:normal;"><span
 style="text-decoration:none;"> au Dojo Clarisse
 Agbegnenou</span></span></span></span></span></span></p>
 
 <p> </p>
 
 <p
 style="text-align:center;"><span style="font-size:11pt;"><span
 style="font-family:Arial, sans-serif;"><span
 style="color:#00000a;"><span style="font-weight:400;"><span
 style="font-style:normal;"><span style="text-decoration:none;">Ordre
 du jour :</span></span></span></span></span></span></p>
 
 <p
 style="text-align:center;"><span style="font-size:11pt;"><span
 style="font-family:Arial, sans-serif;"><span
 style="color:#00000a;"><span style="font-weight:400;"><span
 style="font-style:normal;"><span style="text-decoration:none;">Bilan
 moral 2025/2026</span></span></span></span></span></span></p>
 
 <p
 style="text-align:center;"><span style="font-size:11pt;"><span
 style="font-family:Arial, sans-serif;"><span
 style="color:#00000a;"><span style="font-weight:400;"><span
 style="font-style:normal;"><span style="text-decoration:none;">Bilan
 sportif 2025/2026</span></span></span></span></span></span></p>
 
 <p
 style="text-align:center;"><span style="font-size:11pt;"><span
 style="font-family:Arial, sans-serif;"><span
 style="color:#00000a;"><span style="font-weight:400;"><span
 style="font-style:normal;"><span
 style="text-decoration:none;">Activites et perspectives
 2026/2027</span></span></span></span></span></span></p>
 
 <p
 style="text-align:center;"><span style="font-size:11pt;"><span
 style="font-family:Arial, sans-serif;"><span
 style="color:#00000a;"><span style="font-weight:400;"><span
 style="font-style:normal;"><span style="text-decoration:none;">Bilan
 financier 
 2025/2026</span></span></span></span></span></span></p>
 
 <p
 style="text-align:center;"><span style="font-size:11pt;"><span
 style="font-family:Arial, sans-serif;"><span
 style="color:#00000a;"><span style="font-weight:400;"><span
 style="font-style:normal;"><span style="text-decoration:none;">Budget
 previsionnel
 2026/2027</span></span></span></span></span></span></p>
 
 <p
 style="text-align:center;"><span style="font-size:11pt;"><span
 style="font-family:Arial, sans-serif;"><span
 style="color:#00000a;"><span style="font-weight:400;"><span
 style="font-style:normal;"><span style="text-decoration:none;">Tarifs
 2026/2027</span></span></span></span></span></span></p>
 
 <p
 style="text-align:center;"><span style="font-size:11pt;"><span
 style="font-family:Arial, sans-serif;"><span
 style="color:#00000a;"><span style="font-weight:400;"><span
 style="font-style:normal;"><span
 style="text-decoration:none;">Election du comite
 directeur</span></span></span></span></span></span></p>
 
 <p
 style="text-align:center;"><span style="font-size:11pt;"><span
 style="font-family:Arial, sans-serif;"><span
 style="color:#00000a;"><span style="font-weight:400;"><span
 style="font-style:normal;"><span
 style="text-decoration:none;">Intervention Elus et
 Oms</span></span></span></span></span></span></p>
 
 <p
 style="text-align:center;background-color:#ffffff;"> </p>
 
 <p
 style="background-color:#ffffff;"><span style="font-size:11pt;"><span
 style="font-family:Arial, sans-serif;"><span
 style="color:#000000;"><span style="font-weight:400;"><span
 style="font-style:normal;"><span
 style="text-decoration:none;">L'acceuil et l'emargement pour l’AG
 debutera a 16h00.</span></span></span></span></span></span></p>
 
 <p
 style="background-color:#ffffff;"><span style="font-size:11pt;"><span
 style="font-family:Arial, sans-serif;"><span
 style="color:#000000;"><span style="font-weight:400;"><span
 style="font-style:normal;"><span style="text-decoration:none;">Elle
 sera </span></span></span></span></span></span><span
 style="font-size:11pt;"><span style="font-family:Arial,
 sans-serif;"><span style="color:#000000;"><span
 style="font-weight:700;"><span style="font-style:normal;"><span
 style="text-decoration:none;">suivie d’une
 demonstration</span></span></span></span></span></span><span
 style="font-size:11pt;"><span style="font-family:Arial,
 sans-serif;"><span style="color:#000000;"><span
 style="font-weight:400;"><span style="font-style:normal;"><span
 style="text-decoration:none;"> par tous les judokas et de
 </span></span></span></span></span></span><span
 style="font-size:11pt;"><span style="font-family:Arial,
 sans-serif;"><span style="color:#000000;"><span
 style="font-weight:700;"><span style="font-style:normal;"><span
 style="text-decoration:underline;"><span><span>LA REMISE DES
 CEINTURES et
 diplomes</span></span></span></span></span></span></span></span></p>
 
 <p
 style="background-color:#ffffff;"><span style="font-size:11pt;"><span
 style="font-family:Arial, sans-serif;"><span
 style="color:#000000;"><span style="font-weight:700;"><span
 style="font-style:normal;"><span style="text-decoration:none;">Un
 moment festif cloturera cette animation avec un petit repas partage
 apporte par tous a compter de
 18h.</span></span></span></span></span></span></p>
 
 <p
 style="background-color:#ffffff;"><span style="font-size:11pt;"><span
 style="font-family:Arial, sans-serif;"><span
 style="color:#000000;"><span style="font-weight:700;"><span
 style="font-style:normal;"><span
 style="text-decoration:none;"> </span></span></span></span></span></span></p>
 
 <p
 style="background-color:#ffffff;"> </p>
 
 <p
 style="background-color:#ffffff;"><span style="font-size:11pt;"><span
 style="font-family:Arial, sans-serif;"><span
 style="color:#000000;"><span style="font-weight:400;"><span
 style="font-style:normal;"><span style="text-decoration:none;">A
 apporter : tenue de judo / passeport de judo (pour ceux qui en ont un
 / repas a
 partager</span></span></span></span></span></span></p>
 
 <p> </p>
 
 <p><span
 style="font-size:10pt;"><span style="font-family:Arial,
 sans-serif;"><span style="color:#ff3333;"><span
 style="font-weight:400;"><span style="font-style:normal;"><span
 style="text-decoration:underline;"><span><span>A</span></span></span></span></span></span></span></span><span
 style="font-size:10pt;"><span style="font-family:Arial,
 sans-serif;"><span style="color:#ff3333;"><span
 style="font-weight:700;"><span style="font-style:normal;"><span
 style="text-decoration:underline;"><span><span>PPEL A
 CANDIDATURE</span></span></span></span></span></span></span></span></p>
 
 <p><span
 style="font-size:10pt;"><span style="font-family:Arial,
 sans-serif;"><span style="color:#ff3333;"><span
 style="font-weight:700;"><span style="font-style:normal;"><span
 style="text-decoration:none;">Le bureau a besoin de nouveaux membres
 pour l'annee 2025-2026, n'hesitez pas a nous rejoindre (contact par
 mail : </span></span></span></span></span></span><a
 href="mailto:contact@judo-eybens.fr"
 style="text-decoration:none;"><span style="font-size:11pt;"><span
 style="font-family:Arial, sans-serif;"><span
 style="color:#000000;"><span style="font-weight:400;"><span
 style="font-style:normal;"><span
 style="text-decoration:underline;"><span><span>contact@judo-eybens.fr</span></span></span></span></span></span></span></span></a><span
 style="font-size:10pt;"><span style="font-family:Arial,
 sans-serif;"><span style="color:#ff3333;"><span
 style="font-weight:700;"><span style="font-style:normal;"><span
 style="text-decoration:none;">) ou aupres de vos professeurs  ou
 membres du
 bureau.</span></span></span></span></span></span></p>
 
 <p> </p>
 
 <p><span
 style="font-size:10pt;"><span style="font-family:Arial,
 sans-serif;"><span style="color:#ff3300;"><span
 style="font-weight:700;"><span style="font-style:normal;"><span
 style="text-decoration:underline;"><span><span>En cas
 d’indisponibilite, il est tres important de donner pouvoir pour que
 le quorum soit
 atteint.</span></span></span></span></span></span></span></span></p>
 
 <p> </p>
 
 <p><span
 style="font-size:10pt;"><span style="font-family:Arial,
 sans-serif;"><span style="color:#000000;"><span
 style="font-weight:400;"><span style="font-style:normal;"><span
 style="text-decoration:none;">Nous comptons vivement sur
 vous.</span></span></span></span></span></span></p>
 
 <p> </p>
 
 <p><span
 style="font-size:10pt;"><span style="font-family:Arial,
 sans-serif;"><span style="color:#000000;"><span
 style="font-weight:700;"><span style="font-style:normal;"><span
 style="text-decoration:none;">Les Co
 Presidents, </span></span></span></span></span></span></p>
 
 <p><span
 style="font-size:10pt;"><span style="font-family:Arial,
 sans-serif;"><span style="color:#000000;"><span
 style="font-weight:700;"><span style="font-style:normal;"><span
 style="text-decoration:none;">Andre SISUN, Igor
 MUSARD</span></span></span></span></span></span></p>
 
 <p><span
 style="font-size:11pt;"><span style="font-family:Arial,
 sans-serif;"><span style="color:#00000a;"><span
 style="font-weight:400;"><span style="font-style:normal;"><span
 style="text-decoration:none;">…</span></span></span></span></span></span><span
 style="font-size:11pt;"><span style="font-family:'MS Gothic';"><span
 style="color:#00000a;"><span style="font-weight:400;"><span
 style="font-style:normal;"><span
 style="text-decoration:none;">✂</span></span></span></span></span></span><span
 style="font-size:11pt;"><span style="font-family:Arial,
 sans-serif;"><span style="color:#00000a;"><span
 style="font-weight:400;"><span style="font-style:normal;"><span
 style="text-decoration:none;">……………………………………………………………………………………………………</span></span></span></span></span></span></p>
 
 <p
 style="text-align:center;"><span style="font-size:10pt;"><span
 style="font-family:Arial, sans-serif;"><span
 style="color:#000000;"><span style="font-weight:700;"><span
 style="font-style:normal;"><span
 style="text-decoration:none;">POUVOIR
 </span></span></span></span></span></span><span
 style="font-size:10pt;"><span style="font-family:Arial,
 sans-serif;"><span style="color:#000000;"><span
 style="font-weight:400;"><span style="font-style:normal;"><span
 style="text-decoration:none;">(a renvoyer a
 </span></span></span></span></span></span><a
 href="mailto:contact@judo-eybens.fr"
 style="text-decoration:none;"><span style="font-size:11pt;"><span
 style="font-family:Arial, sans-serif;"><span
 style="color:#000000;"><span style="font-weight:400;"><span
 style="font-style:normal;"><span
 style="text-decoration:underline;"><span><span>contact@judo-eybens.fr</span></span></span></span></span></span></span></span></a><span
 style="font-size:11pt;"><span style="font-family:Calibri,
 sans-serif;"><span style="color:#00000a;"><span
 style="font-weight:400;"><span style="font-style:normal;"><span
 style="text-decoration:none;"> ou ramener au
 Dojo)</span></span></span></span></span></span></p>
 
 <p> </p>
 
 <p><span
 style="font-size:10pt;"><span style="font-family:Arial,
 sans-serif;"><span style="color:#000000;"><span
 style="font-weight:400;"><span style="font-style:normal;"><span
 style="text-decoration:none;">Je
 soussigne(e)</span></span></span></span></span></span><span
 style="font-size:10pt;"><span style="font-family:Arial,
 sans-serif;"><span style="color:#9a9a9a;"><span
 style="font-weight:400;"><span style="font-style:normal;"><span
 style="text-decoration:none;">…………………………………………………………………………………….</span></span></span></span></span></span></p>
 
 <p><span
 style="font-size:10pt;"><span style="font-family:Arial,
 sans-serif;"><span style="color:#000000;"><span
 style="font-weight:400;"><span style="font-style:normal;"><span
 style="text-decoration:none;">donne pouvoir a
 </span></span></span></span></span></span><span
 style="font-size:10pt;"><span style="font-family:Arial,
 sans-serif;"><span style="color:#9a9a9a;"><span
 style="font-weight:400;"><span style="font-style:normal;"><span
 style="text-decoration:none;">...................................................................................................………….</span></span></span></span></span></span></p>
 
 <p><span
 style="font-size:10pt;"><span style="font-family:Arial,
 sans-serif;"><span style="color:#000000;"><span
 style="font-weight:400;"><span style="font-style:normal;"><span
 style="text-decoration:none;">-afin de me representer a l'Assemblee
 Generale Annuelle du Judo Club d'Eybens le
 13/06/2026</span></span></span></span></span></span></p>
 
 <p><span
 style="font-size:10pt;"><span style="font-family:Arial,
 sans-serif;"><span style="color:#000000;"><span
 style="font-weight:400;"><span style="font-style:normal;"><span
 style="text-decoration:none;">-afin de deliberer et prendre part au
 vote en lieu et place sur les questions portees a l'ordre du
 jour. </span></span></span></span></span></span></p>
 
 <p><span
 style="font-size:10pt;"><span style="font-family:Arial,
 sans-serif;"><span style="color:#000000;"><span
 style="font-weight:400;"><span style="font-style:normal;"><span
 style="text-decoration:none;">Fait a Eybens, le
 </span></span></span></span></span></span><span
 style="font-size:10pt;"><span style="font-family:Arial,
 sans-serif;"><span style="color:#9a9a9a;"><span
 style="font-weight:400;"><span style="font-style:normal;"><span
 style="text-decoration:none;">……………………</span></span></span></span></span></span><span
 style="font-size:10pt;"><span style="font-family:Arial,
 sans-serif;"><span style="color:#000000;"><span
 style="font-weight:400;"><span style="font-style:normal;"><span
 style="text-decoration:none;">Signature precedee de la mention
 manuscrite "Bon pour
 pouvoir"</span></span></span></span></span></span></p>
URL;VALUE=URI:https://www.judo-eybens.fr/evenements/2026/06/13/assemblee-generale-remise-des-diplomes-et-grades-2441517
END:VEVENT
END:VCALENDAR
